
BEGIN:VCALENDAR
VERSION:2.0
PRODID:-//EGLSF.info - ECPv6.15.12.2//NONSGML v1.0//EN
CALSCALE:GREGORIAN
METHOD:PUBLISH
X-WR-CALNAME:EGLSF.info
X-ORIGINAL-URL:https://www.eglsf.info
X-WR-CALDESC:Events for EGLSF.info
REFRESH-INTERVAL;VALUE=DURATION:PT1H
X-Robots-Tag:noindex
X-PUBLISHED-TTL:PT1H
BEGIN:VTIMEZONE
TZID:Europe/Amsterdam
BEGIN:DAYLIGHT
TZOFFSETFROM:+0100
TZOFFSETTO:+0200
TZNAME:CEST
DTSTART:20250330T010000
END:DAYLIGHT
BEGIN:STANDARD
TZOFFSETFROM:+0200
TZOFFSETTO:+0100
TZNAME:CET
DTSTART:20251026T010000
END:STANDARD
BEGIN:DAYLIGHT
TZOFFSETFROM:+0100
TZOFFSETTO:+0200
TZNAME:CEST
DTSTART:20260329T010000
END:DAYLIGHT
BEGIN:STANDARD
TZOFFSETFROM:+0200
TZOFFSETTO:+0100
TZNAME:CET
DTSTART:20261025T010000
END:STANDARD
BEGIN:DAYLIGHT
TZOFFSETFROM:+0100
TZOFFSETTO:+0200
TZNAME:CEST
DTSTART:20270328T010000
END:DAYLIGHT
BEGIN:STANDARD
TZOFFSETFROM:+0200
TZOFFSETTO:+0100
TZNAME:CET
DTSTART:20271031T010000
END:STANDARD
BEGIN:DAYLIGHT
TZOFFSETFROM:+0100
TZOFFSETTO:+0200
TZNAME:CEST
DTSTART:20280326T010000
END:DAYLIGHT
BEGIN:STANDARD
TZOFFSETFROM:+0200
TZOFFSETTO:+0100
TZNAME:CET
DTSTART:20281029T010000
END:STANDARD
END:VTIMEZONE
BEGIN:VEVENT
DTSTART;VALUE=DATE:20260807
DTEND;VALUE=DATE:20260809
DTSTAMP:20260426T000404
CREATED:20260423T130700Z
LAST-MODIFIED:20260423T130700Z
UID:7553-1786140000-1786312799@www.eglsf.info
SUMMARY:Janus Queer Games
DESCRIPTION:Now in the third year\, the Queer Games feature the following sports: Volleyball\, Badminton\, Female Basketball\, Soccer\, Handball\, Athletics and Running. Our tournament is more than just a competition. It is a place of encounter\, a space where joy and shared experiences fill every moment. Thanks to the dedicated efforts of our members\, the Janus Queer Games will once again be a highlight of sporting passion and togetherness.
URL:https://www.eglsf.info/event/janus-queer-games/
LOCATION:Cologne\, Germany\, Cologne\, Germany
CATEGORIES:-multisport,members,sport
ATTACH;FMTTYPE=image/png:https://www.eglsf.info/wp-content/uploads/queer-games-2026.png
ORGANIZER;CN="SC Janus Cologne":MAILTO:netzwerk@sc-janus.de
END:VEVENT
BEGIN:VEVENT
DTSTART;VALUE=DATE:20270116
DTEND;VALUE=DATE:20270123
DTSTAMP:20260426T000404
CREATED:20260329T105838Z
LAST-MODIFIED:20260329T105838Z
UID:7525-1800140400-1800745199@www.eglsf.info
SUMMARY:Arosa Gay Ski Week
DESCRIPTION:Arosa Gay Ski Week is one of Europe’s longest-running LGBTQ+ winter sports events\, held annually in Arosa\, Switzerland. The next edition will take place 16–23 January 2027. \nEach year\, more than 900 participants from across Europe and beyond come together to enjoy a week of skiing and snowboarding in the Arosa–Lenzerheide ski area. With daily guided ski groups and a friendly international community atmosphere\, the event celebrates sport\, inclusion and connection in the Swiss Alps. \nInterested in joining our volunteer team? Contact alex(at)gayskiweek.ch.
URL:https://www.eglsf.info/event/arosa-gay-ski-week/
LOCATION:Arosa\, Switzerland\, Arosa\, Switzerland
CATEGORIES:members,skiing,sport
ATTACH;FMTTYPE=image/png:https://www.eglsf.info/wp-content/uploads/logo-arosa-rainbow-blue2.png
ORGANIZER;CN="Verein AGSW":MAILTO:arosa@gayskiweek.ch
END:VEVENT
BEGIN:VEVENT
DTSTART;VALUE=DATE:20270719
DTEND;VALUE=DATE:20270722
DTSTAMP:20260426T000404
CREATED:20260317T170728Z
LAST-MODIFIED:20260317T170728Z
UID:7462-1816034400-1816293599@www.eglsf.info
SUMMARY:EuroGames Frankfurt 2028
DESCRIPTION:
URL:https://www.eglsf.info/event/eurogames-frankfurt-2028/
LOCATION:Frankfurt\, Germany
CATEGORIES:-multisport,members,sport
END:VEVENT
END:VCALENDAR